BEGIN:VCALENDAR
VERSION:2.0
PRODID:-//ChamberMaster//Event Calendar 2.0//EN
METHOD:PUBLISH
X-PUBLISHED-TTL:P3D
REFRESH-INTERVAL:P3D
CALSCALE:GREGORIAN
BEGIN:VEVENT
DTSTART:20260506T230000Z
DTEND:20260507T010000Z
X-MICROSOFT-CDO-ALLDAYEVENT:FALSE
SUMMARY:World Ballet Company: Swan Lake
DESCRIPTION:The World's MOST Iconic Ballet   Live on Stage!\n\n\n\nThe legendary tale of Swan Lake takes flight in a breathtaking production from World Ballet Company\, as fate and magic entwine in a timeless battle between good and evil. Featuring a cast of 50 international dancers\, over 150 radiant hand-sewn costumes\, and stunning hand-crafted sets\, this spellbinding performance captures every heart-pounding moment   from the Dance of the Little Swans to the Black Swan's iconic 32 fouett s\, and every pirouette in between.\n\nWith Tchaikovsky's unforgettable score soaring through the air\, immerse yourself in this mesmerizing journey where dreams\, heartbreak\, and redemption unfold right before your eyes.\n\nDuration: 2 hours 30 minutes (including 20-minute intermission)\n\nAudience: For ages 5 & over\n\nWBC Website: https://worldballetcompany.com/charlottesville1\n\nWorld Ballet Company   Ballet Everywhere\, Ballet For All.\n\nAbout the Company\n\nBased in Los Angeles\, and led by Sasha Gorskaya and Gulya Hartwick\, World Ballet Company presents the most beloved and iconic ballets of our time in cities nationwide. Driven by the belief that ballet is for everyone\, performances appeal to newcomers and seasoned ballet goers alike. The company attracts many international artists and comprises renowned professional dancers representing over ten countries.\n\nTo date\, World Ballet Company has traveled to more than 300 cities\, reaching an audience of more than 500\,000 fans.
X-ALT-DESC;FMTTYPE=text/html:<p><strong>The World&rsquo\;s MOST Iconic Ballet &ndash\; Live on Stage!</strong><br />\n<br />\nThe legendary tale of&nbsp\;<em>Swan Lake</em>&nbsp\;takes flight in a breathtaking production from World Ballet Company\, as fate and magic entwine in a timeless battle between good and evil. Featuring a cast of 50 international dancers\, over 150 radiant hand-sewn costumes\, and stunning hand-crafted sets\, this spellbinding performance captures every heart-pounding moment &ndash\; from the Dance of the Little Swans to the Black Swan&rsquo\;s iconic 32 fouett&eacute\;s\, and every pirouette in between.</p>\n\n<p>With Tchaikovsky&rsquo\;s unforgettable score soaring through the air\, immerse yourself in this mesmerizing journey where dreams\, heartbreak\, and redemption unfold right before your eyes.</p>\n\n<p>Duration: 2 hours 30 minutes (including 20-minute intermission)<br />\nAudience: For ages 5 &amp\; over<br />\nWBC Website:&nbsp\;<a href="https://worldballetcompany.com/charlottesville1" rel="noopener" style="box-sizing: border-box\; font-size: 0.938rem\; color: rgb(34\, 31\, 32)\;" target="_blank">https://worldballetcompany.com/charlottesville1</a></p>\n\n<p>World Ballet Company &ndash\; Ballet Everywhere\, Ballet For All.</p>\n\n<p><strong>About the Company</strong><br />\nBased in Los Angeles\, and led by Sasha Gorskaya and Gulya Hartwick\, World Ballet Company presents the most beloved and iconic ballets of our time in cities nationwide. Driven by the belief that ballet is for everyone\, performances appeal to newcomers and seasoned ballet goers alike. The company attracts many international artists and comprises renowned professional dancers representing over ten countries.</p>\n\n<p>To date\, World Ballet Company has traveled to more than 300 cities\, reaching an audience of more than 500\,000 fans.</p>\n
LOCATION:The Paramount Theater 215 East Main Street Charlottesville\, VA 22902
UID:e.1435.13039
SEQUENCE:3
DTSTAMP:20260424T171305Z
URL:https://business.cvillechamber.com/events/details/world-ballet-company-swan-lake-05-06-2026-13039
END:VEVENT

END:VCALENDAR
