BEGIN:VCALENDAR
VERSION:2.0
PRODID:-//ChamberMaster//Event Calendar 2.0//EN
METHOD:PUBLISH
X-PUBLISHED-TTL:P3D
REFRESH-INTERVAL:P3D
CALSCALE:GREGORIAN
BEGIN:VEVENT
DTSTART:20260415T233000Z
DTEND:20260416T013000Z
X-MICROSOFT-CDO-ALLDAYEVENT:FALSE
SUMMARY:Starr Hill Presents: Graham Nash—Live on Tour 2026
DESCRIPTION:Graham Nash will perform a career-spanning retrospective of his six decades of contributions to contemporary music. Joined by Todd Caldwell (keyboards)\, Adam Minkoff (bass\, drums\, guitar\, and vocals)\, and Zack Djanikian (guitar\, bass\, drums\, and vocals)\, Nash will take the audience on a musical journey that encompasses his years with The Hollies\, CSN\, CSNY\, and his beloved solo efforts.\n\nABOUT GRAHAM NASH\n\nNash is a two-time Rock and Roll Hall of Fame inductee\, with Crosby\, Stills and Nash\, and with the Hollies. He was also inducted twice into the Songwriters' Hall of Fame\, as a solo artist and with CSN\, and he is a GRAMMY Award winner.\n\nTowering above virtually everything that Graham Nash has accomplished in his multi-faceted career stands the litany of songs that he has written and introduced to the soundtrack of the past half-century. His remarkable body of work\, beginning with his contributions to the Hollies opus\, including "On a Carousel" and "Carrie Anne\," continues all the way to Now (2023)\, his most recent solo album.\n\nThe original classic union of Crosby\, Stills & Nash (& Young) lasted but twenty months.  Yet their songs are lightning rods embedded in our DNA\, starting with Nash's "Marrakesh Express\," and "Lady of the Island\," from the first Crosby\, Stills & Nash LP (1969)\, and "Teach Your Children" and "Our House" on CSNY's D j  Vu (1970).\n\nNash's solo career debuted with Songs For Beginners (1971)\, which included "Chicago/We Can Change the World" and "Military Madness" and others. In addition to his string of solo albums\, he has performed and recorded with David Crosby as Crosby/Nash. Their eponymously titled Graham Nash/David Crosby (1972) is bookended by Nash's "Southbound Train" and "Immigration Man."
X-ALT-DESC;FMTTYPE=text/html:<p>Graham Nash will perform a career-spanning retrospective of his six decades of contributions to contemporary music. Joined by Todd Caldwell (keyboards)\, Adam Minkoff (bass\, drums\, guitar\, and vocals)\, and Zack Djanikian (guitar\, bass\, drums\, and vocals)\, Nash will take the audience on a musical journey that encompasses his years with The Hollies\, CSN\, CSNY\, and his beloved solo efforts.</p>\n\n<p><strong>ABOUT GRAHAM NASH</strong></p>\n\n<p>Nash is a two-time Rock and Roll Hall of Fame inductee\, with Crosby\, Stills and Nash\, and with the Hollies. He was also inducted twice into the Songwriters&rsquo\; Hall of Fame\, as a solo artist and with CSN\, and he is a GRAMMY Award winner.</p>\n\n<p>Towering above virtually everything that Graham Nash has accomplished in his multi-faceted career stands the litany of songs that he has written and introduced to the soundtrack of the past half-century. His remarkable body of work\, beginning with his contributions to the Hollies opus\, including &ldquo\;On a Carousel&rdquo\; and &ldquo\;Carrie Anne\,&rdquo\; continues all the way to&nbsp\;<em>Now&nbsp\;</em>(2023)\, his most recent solo album.</p>\n\n<p>The original classic union of Crosby\, Stills &amp\; Nash (&amp\; Young) lasted but twenty months.&nbsp\; Yet their songs are lightning rods embedded in our DNA\, starting with Nash&rsquo\;s &ldquo\;Marrakesh Express\,&rdquo\; and &ldquo\;Lady of the Island\,&rdquo\; from the first&nbsp\;<em>Crosby\, Stills &amp\; Nash&nbsp\;</em>LP (1969)\, and &ldquo\;Teach Your Children&rdquo\; and &ldquo\;Our House&rdquo\; on CSNY&rsquo\;s&nbsp\;<em>D&eacute\;j&agrave\; Vu</em>&nbsp\;(1970).</p>\n\n<p>Nash&rsquo\;s solo career debuted with&nbsp\;<em>Songs For Beginners</em>&nbsp\;(1971)\, which included &ldquo\;Chicago/We Can Change the World&rdquo\; and &ldquo\;Military Madness&rdquo\; and others. In addition to his string of solo albums\, he has performed and recorded with David Crosby as Crosby/Nash. Their eponymously titled&nbsp\;<em>Graham Nash/David Crosby</em>&nbsp\;(1972) is bookended by Nash&rsquo\;s &ldquo\;Southbound Train&rdquo\; and &ldquo\;Immigration Man.&rdquo\;</p>\n
LOCATION:The Paramount Theater 215 East Main Street Charlottesville\, VA 22902
UID:e.1435.13081
SEQUENCE:3
DTSTAMP:20260419T134023Z
URL:https://business.cvillechamber.com/events/details/starr-hill-presents-graham-nash-live-on-tour-2026-13081
END:VEVENT

END:VCALENDAR
