BEGIN:VCALENDAR
VERSION:2.0
PRODID:-//ChamberMaster//Event Calendar 2.0//EN
METHOD:PUBLISH
X-PUBLISHED-TTL:P3D
REFRESH-INTERVAL:P3D
CALSCALE:GREGORIAN
BEGIN:VEVENT
DTSTART:20260206T170000Z
DTEND:20260206T180000Z
X-MICROSOFT-CDO-ALLDAYEVENT:FALSE
SUMMARY:Ribbon Cutting: Edward Jones
DESCRIPTION:Join us for a Ribbon Cutting ceremony to celebrate the opening of Edward Jones Financial Advisor Laura Leigh Scott's new office in Old Trail! This is a double celebration as we welcome Laura Leigh not only to her new location but also as one of our newest members of the Chamber. Laura Leigh and branch office administrator Kristen Townsend are bringing personalized financial guidance right here to the community where they live\, work\, and raise their families. This is a wonderful opportunity to network with local business leaders and community members while welcoming this exciting addition to our region.\n\n\n\nLaura Leigh Scott practices a holistic approach to financial advising with Edward Jones\, creating comprehensive\, individualized strategies tailored to each client's unique goals\, risk preferences\, and time horizons. Following in her father's footsteps as a banker and town finance director\, Laura Leigh is committed to helping others achieve their financial goals through personalized\, relationship-based guidance. After 16 years with the military\, she and her three children made the Blue Ridge Mountains their forever home.
X-ALT-DESC;FMTTYPE=text/html:<!--StartFragment-->\n<p class="font-claude-response-body break-words whitespace-normal leading-[1.7]">Join us for a Ribbon Cutting ceremony to celebrate the opening of <strong>Edward Jones Financial Advisor Laura Leigh Scott&#39\;s new office in Old Trail! </strong>This is a double celebration as we welcome Laura Leigh not only to her new location but also as <strong>one of our newest members of the Chamber. </strong>Laura Leigh and branch office administrator Kristen Townsend are bringing personalized financial guidance right here to the&nbsp\;community where they live\, work\, and raise their families. This is a wonderful opportunity to network with local business leaders and community members while welcoming this exciting addition to our region.<br />\n<br />\nLaura Leigh Scott practices a <strong>holistic approach to financial advising</strong> with <strong><a href="https://www.edwardjones.com/us-en/financial-advisor/lauraleigh-scott" target="_blank">Edward Jones</a></strong>\, creating comprehensive\, individualized strategies tailored to each client&#39\;s unique goals\, risk preferences\, and time horizons. Following in her father&#39\;s footsteps as a banker and town finance director\, <strong>Laura Leigh is committed to helping others achieve their financial goals</strong> through personalized\, relationship-based guidance. After 16 years with the military\, she and her three children made the Blue Ridge Mountains their forever home.</p>\n<!--EndFragment-->
LOCATION:Edward Jones 1160 Old Trail Drive Suite 150 Crozet\, VA
UID:e.1435.13540
SEQUENCE:3
DTSTAMP:20260421T095338Z
URL:https://business.cvillechamber.com/events/details/ribbon-cutting-edward-jones-13540
END:VEVENT

END:VCALENDAR
