BEGIN:VCALENDAR
VERSION:2.0
PRODID:-//ChamberMaster//Event Calendar 2.0//EN
METHOD:PUBLISH
X-PUBLISHED-TTL:P3D
REFRESH-INTERVAL:P3D
CALSCALE:GREGORIAN
BEGIN:VEVENT
DTSTART:20260519T190000Z
DTEND:20260519T200000Z
X-MICROSOFT-CDO-ALLDAYEVENT:FALSE
SUMMARY:Ribbon Cutting: Bay Ridge Private Wealth & Partners
DESCRIPTION:Join us for a Ribbon Cutting ceremony to celebrate the Grand Opening of Bay Ridge Private Wealth & Partners' new office!\n\n\n\nBay Ridge Private Wealth is a private wealth practice serving individuals\, families\, and business owners through personalized financial planning and investment advisory services. The practice takes a relationship-driven approach\, focusing on understanding each client's unique goals\, values\, and financial circumstances in order to provide thoughtful\, tailored guidance. Committed to professionalism\, transparency\, and fiduciary responsibility (advisory clients)\, Bay Ridge Private Wealth serves as a trusted resource for clients seeking long-term financial clarity and confidence.\n\nSecurities and investment advisory services offered through &Partners\, LLC\, registered broker-dealer and investment adviser\, member FINRA and SIPC.\n\n\n\nRefreshments will be served.
X-ALT-DESC;FMTTYPE=text/html:<p><span style="font-size:14px\;"><span style="font-family:arial\;"><span background-color:="" font-size:="" style="color: rgb(51\, 51\, 51)\; font-family: sans-serif\, Arial\, Verdana\, " trebuchet="">Join us for a Ribbon Cutting ceremony to celebrate the&nbsp\;</span><strong background-color:="" font-size:="" style="color: rgb(51\, 51\, 51)\; font-family: sans-serif\, Arial\, Verdana\, " trebuchet="">Grand Opening of&nbsp\;Bay Ridge Private Wealth &amp\; Partners&#39\; new office!</strong><br />\n<br />\n<strong>Bay Ridge Private Wealth</strong> is a private wealth practice serving individuals\, families\, and business owners through personalized financial planning and investment advisory services. The practice takes a relationship-driven approach\, focusing on understanding each client&rsquo\;s unique goals\, values\, and financial circumstances in order to provide thoughtful\, tailored guidance. Committed to professionalism\, transparency\, and fiduciary responsibility (advisory clients)\, Bay Ridge Private Wealth serves as a trusted resource for clients seeking long-term financial clarity and confidence.</span></span></p>\n\n<p><span style="font-size:14px\;"><span style="font-family:arial\;">Securities and investment advisory services offered through &amp\;Partners\, LLC\, registered broker-dealer and investment adviser\, member FINRA and SIPC.<br />\n<br />\nRefreshments will be served.</span></span></p>\n
LOCATION:Bay Ridge Private Wealth & Partners 650 Peter Jefferson Parkway Suite 160 Charlottesville\, VA 22911
UID:e.1435.13872
SEQUENCE:3
DTSTAMP:20260420T111942Z
URL:https://business.cvillechamber.com/events/details/ribbon-cutting-bay-ridge-private-wealth-partners-13872
END:VEVENT

END:VCALENDAR
