BEGIN:VCALENDAR
VERSION:2.0
PRODID:-//ChamberMaster//Event Calendar 2.0//EN
METHOD:PUBLISH
X-PUBLISHED-TTL:P3D
REFRESH-INTERVAL:P3D
CALSCALE:GREGORIAN
BEGIN:VEVENT
DTSTART:20200913T000000Z
DTEND:20200913T013000Z
X-MICROSOFT-CDO-ALLDAYEVENT:FALSE
SUMMARY:Paramount Presents: The Capitol Steps
DESCRIPTION:Over 30 years ago\, the Capitol Steps began as a group of Senate staffers who set out to satirize the very people and places that employed them. In the years that followed\, many of the Steps ignored the conventional wisdom ("Don't quit your day job!")\, and although not all of the current members of the Steps are former Capitol Hill staffers\, taken together the performers have worked in a total of eighteen Congressional offices and represent 62 years of collective House and Senate staff experience.\n\n\n\nSince they began\, the Capitol Steps have recorded over 35 albums\, including their latest\, The Lyin' Kings. They've been featured on NBC\, CBS\, ABC\, and PBS\, and can be heard twice a year on National Public Radio stations nationwide during their Politics Takes a Holiday radio specials.\n\n\n\nNo matter who or what is in the headlines\, you can bet the Capitol Steps will tackle both sides of the political spectrum and all things equally foolish. What more would you expect from the group that puts the "MOCK" in Democracy?!
X-ALT-DESC;FMTTYPE=text/html:Over 30 years ago\, the Capitol Steps began as a group of Senate staffers who set out to satirize the very people and places that employed them. In the years that followed\, many of the Steps ignored the conventional wisdom (&ldquo\;Don&rsquo\;t quit your day job!&rdquo\;)\, and although not all of the current members of the Steps are former Capitol Hill staffers\, taken together the performers have worked in a total of eighteen Congressional offices and represent 62 years of collective House and Senate staff experience.<br />\n<br />\nSince they began\, the Capitol Steps have recorded over 35 albums\, including their latest\, <em>The Lyin&rsquo\; Kings</em>. They&rsquo\;ve been featured on NBC\, CBS\, ABC\, and PBS\, and can be heard twice a year on National Public Radio stations nationwide during their <em>Politics Takes a Holiday</em> radio specials.<br />\n<br />\nNo matter who or what is in the headlines\, you can bet the Capitol Steps will tackle both sides of the political spectrum and all things equally foolish. What more would you expect from the group that puts the &ldquo\;MOCK&rdquo\; in Democracy?!
LOCATION:The Paramount Theater 215 E. Main St. Charlottesville\, VA 22902
UID:e.1435.9764
SEQUENCE:3
DTSTAMP:20260424T081929Z
URL:https://business.cvillechamber.com/events/details/paramount-presents-the-capitol-steps-9764
END:VEVENT

END:VCALENDAR
