BEGIN:VCALENDAR
VERSION:2.0
PRODID:-//ChamberMaster//Event Calendar 2.0//EN
METHOD:PUBLISH
X-PUBLISHED-TTL:P3D
REFRESH-INTERVAL:P3D
CALSCALE:GREGORIAN
BEGIN:VEVENT
DTSTART:20251009T233000Z
DTEND:20251010T013000Z
X-MICROSOFT-CDO-ALLDAYEVENT:FALSE
SUMMARY:Paramount Presents: Soweto Gospel Choir – Peace
DESCRIPTION:SOWETO GOSPEL CHOIR   PEACE\n\nWith their concert entitled PEACE\, the multi-Grammy and Emmy Award-winning SOWETO GOSPEL CHOIR returns to North America to perform a joyful program of South African freedom songs\, traditional spirituals\, and some classics. The inspirational concert will also feature the spirited music of Aretha Franklin\, Harry Belafonte\, Peter Gabriel\, Kate Bush\, Leonard Cohen\, and more! Formed in 2002\, the Choir was created to celebrate the unique power of African gospel music and quickly established itself as a group that is "undeniably synchronized\, appears unshakable\, and simultaneously expresses universality and individuality" (San Francisco Classical Voice). Heralded by Nelson Mandela\, Desmond Tutu\, Barack Obama\, and Oprah Winfrey\, SOWETO GOSPEL CHOIR excites audiences worldwide\, uplifting the soul and spreading joy through its earthy rhythms\, rich harmonies\, brilliant costumes\, and infectious spirit. It's perfect for the entire family!\n\nABOUT SOWETO GOSPEL CHOIR\n\nFormed in 2002\, the career achievements of Soweto Gospel Choir are phenomenal. To list but some:\n\n\n	They have collaborated with Peter Gabriel\, U2\, John Legend\, Robert Plant\, Chance the Rapper\, and Ben Harper.\n	They have performed on stage with Celine Dion\, Andr  Rieu\, Bono\, Diana Ross\, Zahara\, and Pharrell Williams.\n	They have performed in programs alongside the Red Hot Chili Peppers\, Black Eyed Peas\, Shakira\, Angelique Kidjo\, Jimmy Cliff\, Youssou N'Dour\, Ziggy Marley\, and South African superstar Johnny Clegg\, including at his farewell concert.\n\n\nThe Choir has performed in such prestigious venues as Carnegie Hall\, Sydney Opera House\, Royal Festival Hall London\, and Nelson Mandela Theatre. Further\, they have performed at such important events as the 2009 Academy Awards\; Nelson Mandela's funeral\, memorial service in Westminster Abbey\, centenary celebrations\; Archbishop Desmond Tutu's funeral (as well as his 75th and 80th birthdays)\; the FIFA 2009 World Cup opening ceremony in Cape Town and kick-off in Johannesburg\; and Winnie Madikileza-Mandela's memorial service.\n\nSoweto Gospel Choir has been nominated for five Grammys\, an Oscar (with Peter Gabriel)\, six South African Music Awards (SAMAs)\, as well as an International Reggae and World Music Award. The Choir has been awarded three Grammys in their own right and three associated ones\, an Emmy Award\, three SAMAs\, two American Gospel Awards\, the inaugural Tower Music African Gospel Award for best gospel group\, and a Helpmann Award.
X-ALT-DESC;FMTTYPE=text/html:<p><strong>SOWETO GOSPEL CHOIR &ndash\;&nbsp\;</strong><strong><em>PEACE</em></strong></p>\n\n<p>With their concert entitled<em>&nbsp\;PEACE</em>\, the multi-Grammy and Emmy Award-winning <strong>SOWETO GOSPEL CHOIR</strong>&nbsp\;returns to North America to perform a joyful program of South African freedom songs\, traditional spirituals\, and some classics. The inspirational concert will also feature the spirited music of Aretha Franklin\, Harry Belafonte\, Peter Gabriel\, Kate Bush\, Leonard Cohen\, and more! Formed in 2002\, the Choir was created to celebrate the unique power of African gospel music and quickly established itself as a group that is &ldquo\;undeniably synchronized\, appears unshakable\, and simultaneously expresses universality and individuality&rdquo\; (<em>San Francisco Classical Voice</em>). Heralded by&nbsp\;Nelson Mandela\,&nbsp\;Desmond Tutu\, Barack Obama\, and&nbsp\;Oprah Winfrey\,&nbsp\;<strong>SOWETO GOSPEL CHOIR</strong>&nbsp\;excites audiences worldwide\, uplifting the soul and spreading joy through its earthy rhythms\, rich harmonies\, brilliant costumes\, and infectious spirit. It&rsquo\;s perfect for the entire family!</p>\n\n<p><strong>ABOUT SOWETO GOSPEL CHOIR</strong><br />\nFormed in 2002\, the career achievements of Soweto Gospel Choir are phenomenal. To list but some:</p>\n\n<ul>\n	<li>They have collaborated with Peter Gabriel\, U2\, John Legend\, Robert Plant\, Chance the Rapper\, and Ben Harper.</li>\n	<li>They have performed on stage with Celine Dion\, Andr&eacute\; Rieu\, Bono\, Diana Ross\, Zahara\, and Pharrell Williams.</li>\n	<li>They have performed in programs alongside the Red Hot Chili Peppers\, Black Eyed Peas\, Shakira\, Angelique Kidjo\, Jimmy Cliff\, Youssou N&rsquo\;Dour\, Ziggy Marley\, and South African superstar Johnny Clegg\, including at his farewell concert.</li>\n</ul>\n\n<p>The Choir has performed in such prestigious venues as Carnegie Hall\, Sydney Opera House\, Royal Festival Hall London\, and Nelson Mandela Theatre. Further\, they have performed at such important events as the 2009 Academy Awards\; Nelson Mandela&rsquo\;s funeral\, memorial service in Westminster Abbey\, centenary celebrations\; Archbishop Desmond Tutu&rsquo\;s funeral (as well as his 75th and 80th birthdays)\; the FIFA 2009 World Cup opening ceremony in Cape Town and kick-off in Johannesburg\; and Winnie Madikileza-Mandela&rsquo\;s memorial service.</p>\n\n<p>Soweto Gospel Choir has been nominated for five Grammys\, an Oscar (with Peter Gabriel)\, six South African Music Awards (SAMAs)\, as well as an International Reggae and World Music Award. The Choir has been awarded three Grammys in their own right and three associated ones\, an Emmy Award\, three SAMAs\, two American Gospel Awards\, the inaugural Tower Music African Gospel Award for best gospel group\, and a Helpmann Award.</p>\n
LOCATION:The Paramount Theater 215 East Main Street Charlottesville\, VA 22902
UID:e.1435.12269
SEQUENCE:3
DTSTAMP:20260421T043011Z
URL:https://business.cvillechamber.com/events/details/paramount-presents-soweto-gospel-choir-peace-12269
END:VEVENT

END:VCALENDAR
