BEGIN:VCALENDAR
VERSION:2.0
PRODID:-//ChamberMaster//Event Calendar 2.0//EN
METHOD:PUBLISH
X-PUBLISHED-TTL:P3D
REFRESH-INTERVAL:P3D
CALSCALE:GREGORIAN
BEGIN:VEVENT
DTSTART:20220626T180000Z
DTEND:20220626T201500Z
X-MICROSOFT-CDO-ALLDAYEVENT:FALSE
SUMMARY:Paramount at the Movies Presents: The Blues Brothers [R]
DESCRIPTION:For information regarding The Paramount's Covid-19 policy\, click here.\n\n\nIn honor of our 90th anniversary\, The Paramount Theater is presenting films from our nine decades of history. Next up\, the show that really hits the road   The Blues Brothers!\n\nDon your best sunglasses for this cult classic at The Paramount! Elwood (Dan Aykroyd) and Jake (John Belushi) reunite after Jake is released from prison and set out on a "mission from God" to save the orphanage in which the brothers grew up. The two "Blues Brothers" get their old band back together to raise the $5\,000 needed to pay the orphanage's back taxes\, but their efforts are delayed by run-ins with the police\, a menacing mystery woman\, and rivaling bands. One of the most expensive comedies ever produced\, The Blues Brothers   based on a beloved musical sketch on Saturday Night Live   features performances by John Candy\, Carrie Fisher\, Charles Napier\, and Henry Gibson.
X-ALT-DESC;FMTTYPE=text/html:<p>For information regarding The Paramount&#39\;s Covid-19 policy\, <strong><u><a href="https://www.theparamount.net/covid-19updates/">click here.</a></u></strong></p>\n\n<hr />\n<p><strong>In honor of our 90th anniversary\, The Paramount Theater is presenting films from our nine decades of history. Next up\, the show that really hits the road &ndash\; <em>The Blues Brothers</em>!</strong></p>\n\n<p>Don your best sunglasses for this cult classic at The Paramount! Elwood (Dan Aykroyd) and Jake (John Belushi) reunite after Jake is released from prison and set out on a &ldquo\;mission from God&rdquo\; to save the orphanage in which the brothers grew up. The two &ldquo\;Blues Brothers&rdquo\; get their old band back together to raise the $5\,000 needed to pay the orphanage&rsquo\;s back taxes\, but their efforts are delayed by run-ins with the police\, a menacing mystery woman\, and rivaling bands. One of the most expensive comedies ever produced\, <em>The Blues Brothers</em> &ndash\; based on a beloved musical sketch on <em>Saturday Night Live</em> &ndash\; features performances by John Candy\, Carrie Fisher\, Charles Napier\, and Henry Gibson.</p>\n
LOCATION:The Paramount Theater 215 East Main Street Charlottesville\, VA 22902
UID:e.1435.10661
SEQUENCE:3
DTSTAMP:20260423T192011Z
URL:https://business.cvillechamber.com/events/details/paramount-at-the-movies-presents-the-blues-brothers-r-10661
END:VEVENT

END:VCALENDAR
