BEGIN:VCALENDAR
VERSION:2.0
PRODID:-//ChamberMaster//Event Calendar 2.0//EN
METHOD:PUBLISH
X-PUBLISHED-TTL:P3D
REFRESH-INTERVAL:P3D
CALSCALE:GREGORIAN
BEGIN:VEVENT
DTSTART:20320316T153000Z
DTEND:20320316T170000Z
X-MICROSOFT-CDO-ALLDAYEVENT:FALSE
SUMMARY:National Love...No Ego Day
DESCRIPTION:Join us in celebrating National Love No Ego Day!\n\nWhy March 16th? A decade ago\, this was the day our "lovenoego" mission began. We know it's a Monday\, but on this day\, we intentionally encourage taking the time to step away from work and from what we do\, to be what we are: Human.
X-ALT-DESC;FMTTYPE=text/html:<h4>Join us in celebrating&nbsp\;<strong>National Love&hellip\;No Ego Day</strong>!</h4>\n\n<p>Why March 16th? A decade ago\, this was the day our &ldquo\;lovenoego&rdquo\; mission began. We know it&rsquo\;s a Monday\, but on this day\, we intentionally encourage taking the time to step away from work and from what we&nbsp\;<em>do</em>\, to&nbsp\;<em>be</em>&nbsp\;what we are:&nbsp\;<strong>Human.</strong></p>\n
LOCATION:Darden Towe Park. 1445 Darden Towe Park\, Charlottesville\, Virginia. Athletic Baseball and Grass Field
UID:e.1435.13589
SEQUENCE:3
DTSTAMP:20260420T123321Z
URL:https://business.cvillechamber.com/events/details/national-love-no-ego-day-03-16-2032-13589
END:VEVENT

END:VCALENDAR
