BEGIN:VCALENDAR
VERSION:2.0
PRODID:-//ChamberMaster//Event Calendar 2.0//EN
METHOD:PUBLISH
X-PUBLISHED-TTL:P3D
REFRESH-INTERVAL:P3D
CALSCALE:GREGORIAN
BEGIN:VEVENT
DTSTART:20260509T170000Z
DTEND:20260509T210000Z
X-MICROSOFT-CDO-ALLDAYEVENT:FALSE
SUMMARY:Met Live in HD: Eugene Onegin
DESCRIPTION:Following her acclaimed 2024 company debut in Puccini's Madama Butterfly\, soprano Asmik Grigorian returns to the Met as Tatiana\, the lovestruck young heroine in this ardent operatic adaptation of Pushkin\, which will be transmitted live from the Metropolitan Opera stage to cinemas worldwide. Baritone Igor Golovatenko reprises his portrayal of the urbane Onegin\, who realizes his affection for her all too late. The Met's evocative production\, directed by Tony Award winner Deborah Warner\, "offers a beautifully detailed reading of   Tchaikovsky's lyrical romance" (The Telegraph).
X-ALT-DESC;FMTTYPE=text/html:<span style="color:rgb(34\, 31\, 32)\; font-family:brother-1816\,sans-serif\; font-size:15.008px">Following her acclaimed 2024 company debut in Puccini&rsquo\;s&nbsp\;</span><em>Madama Butterfly</em><span style="color:rgb(34\, 31\, 32)\; font-family:brother-1816\,sans-serif\; font-size:15.008px">\, soprano Asmik Grigorian returns to the Met as Tatiana\, the lovestruck young heroine in this ardent operatic adaptation of Pushkin\, which will be transmitted live from the Metropolitan Opera stage to cinemas worldwide. Baritone Igor Golovatenko reprises his portrayal of the urbane Onegin\, who realizes his affection for her all too late. The Met&rsquo\;s evocative production\, directed by Tony Award&ndash\;winner Deborah Warner\, &ldquo\;offers a beautifully detailed reading of &hellip\; Tchaikovsky&rsquo\;s lyrical romance&rdquo\; (</span><em>The Telegraph</em><span style="color:rgb(34\, 31\, 32)\; font-family:brother-1816\,sans-serif\; font-size:15.008px">).</span>
LOCATION:The Paramount Theater 215 East Main Street Charlottesville\, VA 22902
UID:e.1435.13004
SEQUENCE:3
DTSTAMP:20260419T131410Z
URL:https://business.cvillechamber.com/events/details/met-live-in-hd-eugene-onegin-05-09-2026-13004
END:VEVENT

END:VCALENDAR
