BEGIN:VCALENDAR
VERSION:2.0
PRODID:-//ChamberMaster//Event Calendar 2.0//EN
METHOD:PUBLISH
X-PUBLISHED-TTL:P3D
REFRESH-INTERVAL:P3D
CALSCALE:GREGORIAN
BEGIN:VEVENT
DTSTART:20260928T153000Z
DTEND:20260928T160000Z
X-MICROSOFT-CDO-ALLDAYEVENT:FALSE
SUMMARY:Elevate & Engage: A Chamber VIP & Sponsorship Briefing
DESCRIPTION:Ready to elevate your brand? If so\, join our President & CEO Andrea Copeland for a 30-minute virtual briefing to explore how our Visionaries in Partnership (VIP) program and sponsorship opportunities can position your organization for greater visibility\, influence\, and engagement for Q4 2026 and for 2027.
X-ALT-DESC;FMTTYPE=text/html:<span style="font-size:14px\;">Ready to elevate your brand? If so\, join our President &amp\; CEO Andrea Copeland for a 30-minute virtual briefing to explore how our <strong><a href="https://www.cvillechamber.com/vip/">Visionaries in Partnership (VIP)</a> </strong>program and sponsorship opportunities can position your organization for greater visibility\, influence\, and engagement for Q4 2026 and for 2027.</span>
LOCATION:Zoom. You will receive a unique link upon the completion of your registration.
UID:e.1435.13898
SEQUENCE:3
DTSTAMP:20260424T232050Z
URL:https://business.cvillechamber.com/events/details/elevate-engage-a-chamber-vip-sponsorship-briefing-13898
END:VEVENT

END:VCALENDAR
