BEGIN:VCALENDAR
VERSION:2.0
PRODID:-//ChamberMaster//Event Calendar 2.0//EN
METHOD:PUBLISH
X-PUBLISHED-TTL:P3D
REFRESH-INTERVAL:P3D
CALSCALE:GREGORIAN
BEGIN:VEVENT
DTSTART:20311007T210000Z
DTEND:20311008T000000Z
X-MICROSOFT-CDO-ALLDAYEVENT:FALSE
SUMMARY:DisruptHR/Charlottesville (benefiting C4K)
DESCRIPTION:Silverchair\, a proud member of the Charlottesville Chamber of Commerce\, invites you to join the one-of-a-kind DisruptHR/Charlottesville event on Tuesday\, October 7th\, from 5-8 p.m. at Live Arts.\n\n\n\nSince 2018\, DisruptHR/Charlottesville has been a stage for thought-provoking\, forward-thinking Ignite talks about the future of work. The evening will begin with a catered reception from 5-6pm. As always\, all proceeds from ticket sales will go directly to C4K\, supporting their vital STEM-based College & Career program for low-income youth.\n\n\n\nDon't miss out on this opportunity to be inspired and make an impact! Tickets are available now on Eventbrite\, and Charlottesville Chamber of Commerce members can use the promo code CVILLECHAMBER for $10 off.
X-ALT-DESC;FMTTYPE=text/html:Silverchair\, a proud member of the Charlottesville Chamber of Commerce\, invites you&nbsp\;to join the one-of-a-kind DisruptHR/Charlottesville event on Tuesday\, October 7th\, from 5-8 p.m. at Live Arts.<br />\n<br />\nSince 2018\, DisruptHR/Charlottesville has been a stage for thought-provoking\, forward-thinking Ignite talks about the future of work. The evening will begin with a catered reception from 5-6pm. As always\, all proceeds from ticket sales will go directly to C4K\, supporting their vital STEM-based College &amp\; Career program for low-income youth.<br />\n<br />\nDon&rsquo\;t miss out on this opportunity to be inspired and make an impact! Tickets are available now on <a href="https://www.eventbrite.com/e/disrupthrcharlottesville-2025-tickets-1270646059569?aff=oddtdtcreator" style="color: rgb(113\, 79\, 188)\; font-family: Calibri\, Helvetica\, sans-serif\; font-size: 16px\; font-weight: 700\;" title="https://www.eventbrite.com/e/disrupthrcharlottesville-2025-tickets-1270646059569?aff=oddtdtcreator">Eventbrite</a>\, and <strong>Charlottesville Chamber of Commerce members can use the promo code CVILLECHAMBER for $10 off.</strong>
LOCATION:Live Arts\, 123 East Water Street\, Charlottesville\, VA 22902
UID:e.1435.12979
SEQUENCE:3
DTSTAMP:20260420T001154Z
URL:https://business.cvillechamber.com/events/details/disrupthr-charlottesville-benefiting-c4k-10-07-2031-12979
END:VEVENT

END:VCALENDAR
