BEGIN:VCALENDAR
VERSION:2.0
PRODID:-//ChamberMaster//Event Calendar 2.0//EN
METHOD:PUBLISH
X-PUBLISHED-TTL:P3D
REFRESH-INTERVAL:P3D
CALSCALE:GREGORIAN
BEGIN:VEVENT
DTSTART:20260430T190000Z
DTEND:20260430T210000Z
X-MICROSOFT-CDO-ALLDAYEVENT:FALSE
SUMMARY:Community Shred and Ice Cream Sundaes with OakHeart Financial Group
DESCRIPTION:Looking to get rid of unwanted documents in a sweet and secure way? Join us for our Annual Shred Event on Thursday\, April 30th from 3:00-5:00pm where we'll be shredding unwanted documents over ice cream sundaes. Friends and family are welcome\, just include your intended headcount in your RSVP.\n\n\n\nhttps://www.ameripriseadvisors.com/team/oakheart-financial-group/lp/event/10/
X-ALT-DESC;FMTTYPE=text/html:<span style="color:rgb(31\, 34\, 38)\; font-family:roboto\,arial\,sans-serif\; font-size:16px">Looking to get rid of unwanted documents in a sweet and secure way? Join us for our Annual Shred Event on Thursday\, April 30th from 3:00-5:00pm where we&#39\;ll be shredding unwanted documents over ice cream sundaes. Friends and family are welcome\, just include your intended headcount in your RSVP.<br />\n<br />\n<a href="https://www.ameripriseadvisors.com/team/oakheart-financial-group/lp/event/10/">https://www.ameripriseadvisors.com/team/oakheart-financial-group/lp/event/10/</a></span>
LOCATION:The parking lot of OakHeart Financial Group 941 Glenwood Station Lane Charlottesville\, VA 22901
UID:e.1435.13894
SEQUENCE:3
DTSTAMP:20260420T215139Z
URL:https://business.cvillechamber.com/events/details/community-shred-and-ice-cream-sundaes-with-oakheart-financial-group-13894
END:VEVENT

END:VCALENDAR
