BEGIN:VCALENDAR
VERSION:2.0
PRODID:-//ChamberMaster//Event Calendar 2.0//EN
METHOD:PUBLISH
X-PUBLISHED-TTL:P3D
REFRESH-INTERVAL:P3D
CALSCALE:GREGORIAN
BEGIN:VEVENT
DTSTART:20260717T230000Z
DTEND:20260718T010000Z
X-MICROSOFT-CDO-ALLDAYEVENT:FALSE
SUMMARY:Charlottesville Opera Presents: The Barber of Seville
DESCRIPTION:THE BARBER OF SEVILLE\n\n\nComposed by Gioachino Rossini\n\nLibretto by Cesare Sterbini\n\nOrchestral edition by Bryan Higgins\, by arrangement with Motet Music Publishing Company\n\nSung in Italian with English subtitles.\n\nGet ready for scheming\, singing\, and romantic chaos in Charlottesville Opera's production of Rossini's effervescent comedy The Barber of Seville. When the clever barber\, Figaro\, helps Count Almaviva woo the lovely Rosina\, the result is a whirlwind of disguises\, deceptions\, and delightful hijinks. Our orchestra brings Rossini's sparkling score to life including the instantly recognizable "Largo al factotum" while the mesmerizing performers navigate this madcap love story with wit and vocal brilliance. With vibrant period costumes and sets that capture the warmth of 18th-century Spain\, this is opera at its most fun\, proving that sometimes the best way to win a heart is with a little mischief and a lot of music.
X-ALT-DESC;FMTTYPE=text/html:<div>\n<p><strong><em>THE BARBER OF SEVILLE</em></strong></p>\n</div>\n\n<p>Composed by Gioachino Rossini<br />\nLibretto by Cesare Sterbini<br />\nOrchestral edition by Bryan Higgins\, by arrangement with Motet Music Publishing Company<br />\nSung in Italian with English subtitles.</p>\n\n<p>Get ready for scheming\, singing\, and romantic chaos in Charlottesville Opera&rsquo\;s production of Rossini&rsquo\;s effervescent comedy&nbsp\;<em>The Barber of Seville</em>. When the clever barber\, Figaro\, helps Count Almaviva woo the lovely Rosina\, the result is a whirlwind of disguises\, deceptions\, and delightful hijinks. Our orchestra brings Rossini&rsquo\;s sparkling score to life&mdash\;including the instantly recognizable &ldquo\;Largo al factotum&rdquo\;&mdash\;while the mesmerizing performers navigate this madcap love story with wit and vocal brilliance. With vibrant period costumes and sets that capture the warmth of 18th-century Spain\, this is opera at its most fun\, proving that sometimes the best way to win a heart is with a little mischief and a lot of music.</p>\n
LOCATION:The Paramount Theater 215 East Main Street Charlottesville\, VA 22902
UID:e.1435.13532
SEQUENCE:3
DTSTAMP:20260419T123254Z
URL:https://business.cvillechamber.com/events/details/charlottesville-opera-presents-the-barber-of-seville-13532
END:VEVENT

END:VCALENDAR
