BEGIN:VCALENDAR
VERSION:2.0
PRODID:-//ChamberMaster//Event Calendar 2.0//EN
METHOD:PUBLISH
X-PUBLISHED-TTL:P3D
REFRESH-INTERVAL:P3D
CALSCALE:GREGORIAN
BEGIN:VEVENT
DTSTART:20280509T210000Z
DTEND:20280509T230000Z
X-MICROSOFT-CDO-ALLDAYEVENT:FALSE
SUMMARY:CBIC Innovation Mixer
DESCRIPTION:For over a decade\, Tech on Tap has been the go-to spot for Charlottesville's innovation ecosystem. Now reimagined as The CBIC Innovation Mixer\, we're turning up the momentum with a name and aesthetic that reflects the dynamism of the community we serve.\n\n\n\nSame mission. Elevated energy. Held on the second Tuesday of each month at the Omni Hotel\, the Mixer is where entrepreneurs\, technologists\, creatives\, and future talent gather to connect\, collaborate\, and catalyze.\n\n\n\nPlease visit cvilleinnovation.org/cbic-innovation-mixer for details and registration.
X-ALT-DESC;FMTTYPE=text/html:For over a decade\, Tech on Tap has been the go-to spot for Charlottesville&rsquo\;s innovation ecosystem. Now reimagined as The CBIC Innovation Mixer\, we&rsquo\;re turning up the momentum with a name&mdash\;and aesthetic&mdash\;that reflects the dynamism of the community we serve.<br />\n<br />\nSame mission. Elevated energy. Held on the second Tuesday of each month at the Omni Hotel\, the Mixer is where entrepreneurs\, technologists\, creatives\, and future talent gather to connect\, collaborate\, and catalyze.<br />\n<br />\n<strong>Please visit&nbsp\;<a href="https://cvilleinnovation.org/cbic-innovation-mixer/" target="_blank">cvilleinnovation.org/cbic-innovation-mixer</a>&nbsp\;for details and registration.</strong>
LOCATION:
UID:e.1435.12419
SEQUENCE:3
DTSTAMP:20260421T111957Z
URL:https://business.cvillechamber.com/events/details/cbic-innovation-mixer-05-09-2028-12419
END:VEVENT

END:VCALENDAR
