BEGIN:VCALENDAR
VERSION:2.0
PRODID:-//ChamberMaster//Event Calendar 2.0//EN
METHOD:PUBLISH
X-PUBLISHED-TTL:P3D
REFRESH-INTERVAL:P3D
CALSCALE:GREGORIAN
BEGIN:VEVENT
DTSTART:20260501T160000Z
DTEND:20260501T170000Z
X-MICROSOFT-CDO-ALLDAYEVENT:FALSE
SUMMARY:Avoiding Medicare Mistakes in Retirement Webinar
DESCRIPTION:Do you or a loved one still have questions about your healthcare options in retirement? Join us for an educational webinar discussing how to avoid common mistakes related to Medicare and retirement planning with Angela Windett\, Broker with Steinlage Insurance Agency.\n\nDuring this virtual session\, we will learn who is eligible for Medicare\, how to define Medicare (moving parts and plans)\, IRMAA Appeals and Medicare changes for 2026\, and ACA Outlooks for early retirees.\nHosted by OakHeart Financial Group\, a private wealth advisory practice of Ameriprise Financial Services\, LLC.\n\n\n\nThere is no cost or obligation to attend. Please fill out the RSVP form linked in the website field to secure your spot and receive the link to join the 5/1 session by Thursday\, April 30.\n\n \n\n	\n		\n			Investment products are not insured by the FDIC\, NCUA or any federal agency\, are not deposits or obligations of\, or guaranteed by any financial institution\, and involve investment risks including possible loss of principal and fluctuation in value.\n\n			Associate with an Ameriprise Financial Franchise. Products from RiverSource and Columbia Threadneedle Investments are offered by affiliates of Ameriprise Financial Services\, LLC. Investment advisory products and services are made available through Ameriprise Financial Services\, LLC\, a registered investment adviser. Ameriprise Financial Services\, LLC. Member FINRA and SIPC.
X-ALT-DESC;FMTTYPE=text/html:<p>Do you or a loved one still have questions about your healthcare options in retirement? Join us for an educational webinar discussing how to avoid common mistakes related to Medicare and retirement planning with Angela Windett\, Broker with Steinlage Insurance Agency.</p>\n\n<p>During this virtual session\, we will learn <strong>who is eligible for Medicare\, how to define Medicare (moving parts and plans)\, IRMAA Appeals and Medicare changes for 2026\, and ACA Outlooks for early retirees</strong>.</p>\nHosted by OakHeart Financial Group\, a private wealth advisory practice of Ameriprise Financial Services\, LLC.<br />\n<br />\nThere is no cost or obligation to attend. Please fill out the RSVP form linked in the website field to secure your spot and receive the link to join the 5/1 session by Thursday\, April 30.<br />\n&nbsp\;\n<table border="0" cellpadding="0" cellspacing="0" style="width:100.0%">\n	<tbody>\n		<tr>\n			<td style="vertical-align:top\; width:100.0%"><strong><span style="color:black"><span style="font-family:arial\,sans-serif"><span style="font-size:8.0pt">Investment products are not insured by the FDIC\, NCUA or any federal agency\, are not deposits or obligations of\, or guaranteed by any financial institution\, and involve investment risks including possible loss of principal and fluctuation in value.</span></span></span></strong><br />\n			<span style="color:black"><span style="font-family:arial\,sans-serif"><span style="font-size:8.0pt">Associate with an Ameriprise Financial Franchise. Products from RiverSource and Columbia Threadneedle Investments are offered by affiliates of Ameriprise Financial Services\, LLC. Investment advisory products and services are made available through Ameriprise Financial Services\, LLC\, a registered investment adviser. Ameriprise Financial Services\, LLC. Member FINRA and SIPC.</span></span></span></td>\n		</tr>\n	</tbody>\n</table>\n
LOCATION:Virtual (Microsoft Teams)
UID:e.1435.13895
SEQUENCE:3
DTSTAMP:20260421T180155Z
URL:https://business.cvillechamber.com/events/details/avoiding-medicare-mistakes-in-retirement-webinar-13895
END:VEVENT

END:VCALENDAR
